BEGIN:VCALENDAR
VERSION:2.0
PRODID:-//Gemeinde Sulzheim - ECPv6.15.17.1//NONSGML v1.0//EN
CALSCALE:GREGORIAN
METHOD:PUBLISH
X-ORIGINAL-URL:https://sulzheim.de
X-WR-CALDESC:Veranstaltungen für Gemeinde Sulzheim
REFRESH-INTERVAL;VALUE=DURATION:PT1H
X-Robots-Tag:noindex
X-PUBLISHED-TTL:PT1H
BEGIN:VTIMEZONE
TZID:Europe/Berlin
BEGIN:DAYLIGHT
TZOFFSETFROM:+0100
TZOFFSETTO:+0200
TZNAME:CEST
DTSTART:20250330T010000
END:DAYLIGHT
BEGIN:STANDARD
TZOFFSETFROM:+0200
TZOFFSETTO:+0100
TZNAME:CET
DTSTART:20251026T010000
END:STANDARD
BEGIN:DAYLIGHT
TZOFFSETFROM:+0100
TZOFFSETTO:+0200
TZNAME:CEST
DTSTART:20260329T010000
END:DAYLIGHT
BEGIN:STANDARD
TZOFFSETFROM:+0200
TZOFFSETTO:+0100
TZNAME:CET
DTSTART:20261025T010000
END:STANDARD
BEGIN:DAYLIGHT
TZOFFSETFROM:+0100
TZOFFSETTO:+0200
TZNAME:CEST
DTSTART:20270328T010000
END:DAYLIGHT
BEGIN:STANDARD
TZOFFSETFROM:+0200
TZOFFSETTO:+0100
TZNAME:CET
DTSTART:20271031T010000
END:STANDARD
END:VTIMEZONE
BEGIN:VEVENT
DTSTART;TZID=Europe/Berlin:20260306T193000
DTEND;TZID=Europe/Berlin:20260306T220000
DTSTAMP:20260421T191034
CREATED:20251119T135259Z
LAST-MODIFIED:20251119T135847Z
UID:6578-1772825400-1772834400@sulzheim.de
SUMMARY:Fredl Fesl-Abend "der Zweite"
DESCRIPTION:Nach dem überragendem ersten Fredl-Fesl Abend im Januar 2025 von Gery Gerspitzer wurde aus dem Publikum ein weiterer Auftritt gefordert. So haben sich Künstler und Veranstalter zu einem zweiten Fredl-Fesl Abend entschieden. Gery Gerspitzer präsentiert einen kurzweiligen Abend mit Lachgarantie\, wenn er Fesls bekannte Lieder wie das „Fussballlied“\, den „Königsjodler“ oder auch das „Lied vom Rausch“ zum besten gibt und am Ende sagt „Ich freue mich!“. \n\n\n\nAnsprechpartner\nWerner Herkert\n\n\nE-Mail-Adresse\nwhsm.herkert@t-online.de
URL:https://sulzheim.de/event/fredl-fesl-abend-der-zweite/
LOCATION:Sporthalle der DJK Alitzheim\, Bahnhofstraße 1\, Alitzheim
ATTACH;FMTTYPE=image/jpeg:https://sulzheim.de/wp-content/uploads/2025/11/Fredl-Fesl-Abend.jpg
END:VEVENT
BEGIN:VEVENT
DTSTART;TZID=Europe/Berlin:20260321T120000
DTEND;TZID=Europe/Berlin:20260321T120000
DTSTAMP:20260421T191034
CREATED:20260317T111240Z
LAST-MODIFIED:20260317T111613Z
UID:6714-1774094400-1774094400@sulzheim.de
SUMMARY:Frühjahrskonzert des Musikvereins Alitzheim
DESCRIPTION:Frühjahrskonzert des Musikvereins Alitzheim\nWir laden sie herzlich ein auf eine Reise zu den Sternen.\nMitwirkende: Alitzheimer Musikanten\, Jugendorchester Alitzheim und Bläserklasse Sulzheim.\nGesamtleitung: Andreas Pickel\n\n\n\nAnsprechpartner\nSonja Solf\n\n\nE-Mail\nsonjasolf@musikverein-alitzheim.de
URL:https://sulzheim.de/event/fruehjahrskonzert-des-musikvereins-alitzheim/
LOCATION:Sporthalle der DJK Alitzheim\, Bahnhofstraße 1\, Alitzheim
ATTACH;FMTTYPE=image/jpeg:https://sulzheim.de/wp-content/uploads/2026/03/Fruehjahrskonzert_Musikverein_AL_Vorschau_800x600px.jpg
END:VEVENT
END:VCALENDAR