BEGIN:VCALENDAR
VERSION:2.0
PRODID:-//Gemeinde Sulzheim - ECPv6.15.17.1//NONSGML v1.0//EN
CALSCALE:GREGORIAN
METHOD:PUBLISH
X-ORIGINAL-URL:https://sulzheim.de
X-WR-CALDESC:Veranstaltungen für Gemeinde Sulzheim
REFRESH-INTERVAL;VALUE=DURATION:PT1H
X-Robots-Tag:noindex
X-PUBLISHED-TTL:PT1H
BEGIN:VTIMEZONE
TZID:Europe/Berlin
BEGIN:DAYLIGHT
TZOFFSETFROM:+0100
TZOFFSETTO:+0200
TZNAME:CEST
DTSTART:20260329T010000
END:DAYLIGHT
BEGIN:STANDARD
TZOFFSETFROM:+0200
TZOFFSETTO:+0100
TZNAME:CET
DTSTART:20261025T010000
END:STANDARD
BEGIN:DAYLIGHT
TZOFFSETFROM:+0100
TZOFFSETTO:+0200
TZNAME:CEST
DTSTART:20270328T010000
END:DAYLIGHT
BEGIN:STANDARD
TZOFFSETFROM:+0200
TZOFFSETTO:+0100
TZNAME:CET
DTSTART:20271031T010000
END:STANDARD
BEGIN:DAYLIGHT
TZOFFSETFROM:+0100
TZOFFSETTO:+0200
TZNAME:CEST
DTSTART:20280326T010000
END:DAYLIGHT
BEGIN:STANDARD
TZOFFSETFROM:+0200
TZOFFSETTO:+0100
TZNAME:CET
DTSTART:20281029T010000
END:STANDARD
END:VTIMEZONE
BEGIN:VEVENT
DTSTART;TZID=Europe/Berlin:20270417T193000
DTEND;TZID=Europe/Berlin:20270417T220000
DTSTAMP:20260421T220214
CREATED:20260119T151728Z
LAST-MODIFIED:20260125T095633Z
UID:6621-1807990200-1807999200@sulzheim.de
SUMMARY:Sebastian Reich und Amanda mit Ihrem aktuellen Programm "Purer Zufall"
DESCRIPTION:„Purer Zufall“ – die neue Comedyshow\, die das Glück verdoppelt! Nilpferd Amanda & Co sind bereit für ein neues Showerlebnis voller Spaß und unvorhersehbarer Überraschungen! Im bereits fünften Tour-Programm von Bauchredner Sebastian Reich geht es rund: Es wird musikalisch\, zauberhaft\, emotional\, romantisch\, interaktiv und vor allen Dingen lustig! Während Amanda gerne mal improvisiert\, überlässt Sebastian nichts dem Zufall\, so ist zumindest sein Plan. \nEin Feuerwerk an Komik und Humor mit einem Mix aus skurrilen Geschichten\, interaktiven Einlagen und der Magie des Zufalls. \n\n\n\nAnsprechpartner\nWerner Herkert\n\n\nE-Mail\nwhsm.herkert@t-online.de
URL:https://sulzheim.de/event/sebastian-reich-und-amanda-mit-ihrem-aktuellen-programm-purer-zufall/
LOCATION:DJK-Halle Alitzheim\, Bahnhofstr. 1\, Alitzheim\, Bayern\, 97529\, Germany
ATTACH;FMTTYPE=image/jpeg:https://sulzheim.de/wp-content/uploads/2026/01/purer-zufall.jpg
END:VEVENT
END:VCALENDAR